BEGIN:VCALENDAR
VERSION:2.0
PRODID:-//ICLD//EN
CALSCALE:GREGORIAN
METHOD:PUBLISH
BEGIN:VEVENT
UID:38545@icld.se
DTSTAMP:20260420T110112Z
DTSTART:20250129T070000Z
DTEND:20250201T160000Z
SUMMARY:Inception Workshop Women’s Political Leadership programme
DESCRIPTION:Albania\n\nhttps://icld.se/sv/kalendarium/inception-workshop-womens-political-leadership-programme-2/
URL:https://icld.se/sv/kalendarium/inception-workshop-womens-political-leadership-programme-2/
END:VEVENT
END:VCALENDAR
