BEGIN:VCALENDAR
VERSION:2.0
PRODID:-//ICLD//EN
CALSCALE:GREGORIAN
METHOD:PUBLISH
BEGIN:VEVENT
UID:38347@icld.se
DTSTAMP:20260420T090848Z
DTSTART:20220609T150000Z
DTEND:20220609T160000Z
SUMMARY:Forskare tar över Almedalen
DESCRIPTION:Vad händer om ett 70-tal forskare från hela världen samlas en vecka i Visby på Gotland för att utbyta idéer\, erfarenhet och kunskap för att stärka den lokal demokratiutvecklingen? Möt forskarna när de intar Almedalsscenen i rollen som politiker och presenterar\, baserat på sin forskning\, hur kommuner och regioner kan bli mer inkluderande\, klimatmedvetna\, hälsosamma\, [&hellip\;]\n\nhttps://icld.se/sv/kalendarium/if-researchers-ruled-our-cities/
URL:https://icld.se/sv/kalendarium/if-researchers-ruled-our-cities/
END:VEVENT
END:VCALENDAR
