BEGIN:VCALENDAR
VERSION:2.0
PRODID:-//ICLD//EN
CALSCALE:GREGORIAN
METHOD:PUBLISH
BEGIN:VEVENT
UID:38447@icld.se
DTSTAMP:20260420T110238Z
DTSTART:20240624T170000Z
DTEND:20240624T191500Z
SUMMARY:ICLD i Almedalen invigningen
DESCRIPTION:Den formella invigningen från Almedalen. 19.20-19.35 deltar ICLD:s generalsekreterare Johan Lilja. Till invigningsprogrammet\n\nhttps://icld.se/sv/kalendarium/icld-i-almedalen-4/
URL:https://icld.se/sv/kalendarium/icld-i-almedalen-4/
END:VEVENT
END:VCALENDAR
