BEGIN:VCALENDAR
VERSION:2.0
PRODID:-//ICLD//EN
CALSCALE:GREGORIAN
METHOD:PUBLISH
BEGIN:VEVENT
UID:38403@icld.se
DTSTAMP:20260420T110320Z
DTSTART:20230627T060000Z
DTEND:20230628T150000Z
SUMMARY:ICLD i Almedalen
DESCRIPTION:ICLD deltar i Almedalsveckan 2023.\n\nhttps://icld.se/sv/kalendarium/icld-i-almedalen-3/
URL:https://icld.se/sv/kalendarium/icld-i-almedalen-3/
END:VEVENT
END:VCALENDAR
