BEGIN:VCALENDAR
VERSION:2.0
PRODID:-//ICLD//EN
CALSCALE:GREGORIAN
METHOD:PUBLISH
BEGIN:VEVENT
UID:38344@icld.se
DTSTAMP:20260420T110016Z
DTSTART:20220706T130000Z
DTEND:20220706T134500Z
SUMMARY:ICLD i Almedalen
DESCRIPTION:Så kan svenska kommuner och regioner bidra till att stärka och återuppbygga ukrainska lokalsamhället Plats: Sverige i Världen\, Donnersplats 6\n\nhttps://icld.se/sv/kalendarium/icld-i-almedalen-2-3/
URL:https://icld.se/sv/kalendarium/icld-i-almedalen-2-3/
END:VEVENT
END:VCALENDAR
