BEGIN:VCALENDAR
VERSION:2.0
PRODID:-//ICLD//EN
CALSCALE:GREGORIAN
METHOD:PUBLISH
BEGIN:VEVENT
UID:38529@icld.se
DTSTAMP:20260420T110124Z
DTSTART;VALUE=DATE:20251210
DTEND;VALUE=DATE:20251211
SUMMARY:Human Rights Day
DESCRIPTION:https://icld.se/sv/kalendarium/human-rights-day-3/
URL:https://icld.se/sv/kalendarium/human-rights-day-3/
END:VEVENT
END:VCALENDAR
