BEGIN:VCALENDAR
VERSION:2.0
PRODID:-//ICLD//EN
CALSCALE:GREGORIAN
METHOD:PUBLISH
BEGIN:VEVENT
UID:38384@icld.se
DTSTAMP:20260420T110333Z
DTSTART:20230612T060000Z
DTEND:20230622T150000Z
SUMMARY:Human Rights Based Approach &#8211\; Swedish Phase
DESCRIPTION:Swedish phase\n\nhttps://icld.se/sv/kalendarium/human-rights-based-approach-programme/
URL:https://icld.se/sv/kalendarium/human-rights-based-approach-programme/
END:VEVENT
END:VCALENDAR
