BEGIN:VCALENDAR
VERSION:2.0
PRODID:-//ICLD//EN
CALSCALE:GREGORIAN
METHOD:PUBLISH
BEGIN:VEVENT
UID:38362@icld.se
DTSTAMP:20260420T110356Z
DTSTART:20221123T070000Z
DTEND:20221123T160000Z
SUMMARY:Homabay Effective and Equitable Health Care Stakeholders Forum
DESCRIPTION:This conference bring together important stakeholders and change makers in a forum named “Homabay Effective and Equitable Health Care Stakeholders Forum” in which the participants can learn\, connect and mobilize for social change\, equitable health\, gender equality\, human rights and sustainable development. The municipal partnership Region Västerbotten_Homa Bay is attending the conference.\n\nhttps://icld.se/sv/kalendarium/homabay-effective-and-equitable-health-care-stakeholders-forum-2/
URL:https://icld.se/sv/kalendarium/homabay-effective-and-equitable-health-care-stakeholders-forum-2/
END:VEVENT
END:VCALENDAR
