BEGIN:VCALENDAR
VERSION:2.0
PRODID:-//ICLD//EN
CALSCALE:GREGORIAN
METHOD:PUBLISH
BEGIN:VEVENT
UID:38427@icld.se
DTSTAMP:20260420T110258Z
DTSTART:20231129T150000Z
DTEND:20231129T163000Z
SUMMARY:Jämställdhet i Colombia &#8211\; Online möte
DESCRIPTION:Agenda: Kommunala budgetar ur ett genusperspektivRosa Chaparro\, UN Women Colombia Att arbeta på kommunal nivå i Colombia: Utmaningar och möjligheterLucia Acosta\, seniorkonsult\, SALAR International Erfarenheter av att vara en del av ett ICLD-nätverk och ett kommunalt partnerskap med fokus på könsbaserat våldChantal Coté\, Internationell strateg\, Jönköpings kommun\n\nhttps://icld.se/sv/kalendarium/gender-equality-in-colombia-virtual-thematic-event-2/
URL:https://icld.se/sv/kalendarium/gender-equality-in-colombia-virtual-thematic-event-2/
END:VEVENT
END:VCALENDAR
