BEGIN:VCALENDAR
VERSION:2.0
PRODID:-//ICLD//EN
CALSCALE:GREGORIAN
METHOD:PUBLISH
BEGIN:VEVENT
UID:38376@icld.se
DTSTAMP:20260420T110341Z
DTSTART:20230207T070000Z
DTEND:20230210T160000Z
SUMMARY:Finance &#8211\; follow up workshop
DESCRIPTION:https://icld.se/sv/kalendarium/finance-follow-up-workshop/
URL:https://icld.se/sv/kalendarium/finance-follow-up-workshop/
END:VEVENT
END:VCALENDAR
