BEGIN:VCALENDAR
VERSION:2.0
PRODID:-//ICLD//EN
CALSCALE:GREGORIAN
METHOD:PUBLISH
BEGIN:VEVENT
UID:39447@icld.se
DTSTAMP:20260420T105904Z
DTSTART;VALUE=DATE:20260126
DTEND;VALUE=DATE:20260129
SUMMARY:Final Workshop WPL
DESCRIPTION:Final Workshop for Women Political Leadership programme cohort 11\n\nhttps://icld.se/sv/kalendarium/final-workshop-wpl/
URL:https://icld.se/sv/kalendarium/final-workshop-wpl/
END:VEVENT
END:VCALENDAR
