BEGIN:VCALENDAR
VERSION:2.0
PRODID:-//ICLD//EN
CALSCALE:GREGORIAN
METHOD:PUBLISH
BEGIN:VEVENT
UID:38371@icld.se
DTSTAMP:20260420T051159Z
DTSTART:20221128T070000Z
DTEND:20221202T160000Z
SUMMARY:Final workshop Women Political Leadership
DESCRIPTION:The final workshop in the International training programme Women Political Leadership.\n\nhttps://icld.se/sv/kalendarium/final-workshop-women-political-leadership-2/
URL:https://icld.se/sv/kalendarium/final-workshop-women-political-leadership-2/
END:VEVENT
END:VCALENDAR
