BEGIN:VCALENDAR
VERSION:2.0
PRODID:-//ICLD//EN
CALSCALE:GREGORIAN
METHOD:PUBLISH
BEGIN:VEVENT
UID:38411@icld.se
DTSTAMP:20260420T110311Z
DTSTART:20231127T070000Z
DTEND:20231201T160000Z
SUMMARY:Final workshop Human Rights Based Approach
DESCRIPTION:https://icld.se/sv/kalendarium/final-workshop-human-rights-based-approach-2/
URL:https://icld.se/sv/kalendarium/final-workshop-human-rights-based-approach-2/
END:VEVENT
END:VCALENDAR
