BEGIN:VCALENDAR
VERSION:2.0
PRODID:-//ICLD//EN
CALSCALE:GREGORIAN
METHOD:PUBLISH
BEGIN:VEVENT
UID:38392@icld.se
DTSTAMP:20260420T105958Z
DTSTART:20230427T120000Z
DTEND:20230427T140000Z
SUMMARY:Make a Citizens Budget &#8211\; digital workshop
DESCRIPTION:Research finds that public support increases when citizens are involved and informed about the local budget process &#8211\; such as with a citizens budget. This 2-hour workshop will cover all the basic steps to create your own CB\, as outlined in the new ICLD Toolbox on Citizens Budget. Target group: all local governments and actors [&hellip\;]\n\nhttps://icld.se/sv/kalendarium/digital-workshop-make-a-citizens-budget/
URL:https://icld.se/sv/kalendarium/digital-workshop-make-a-citizens-budget/
END:VEVENT
END:VCALENDAR
