BEGIN:VCALENDAR
VERSION:2.0
PRODID:-//ICLD//EN
CALSCALE:GREGORIAN
METHOD:PUBLISH
BEGIN:VEVENT
UID:39668@icld.se
DTSTAMP:20260420T105844Z
DTSTART:20260219T071500Z
DTEND:20260219T081500Z
SUMMARY:Creating care-full urban spaces: two perspectives of planning for caring cities
DESCRIPTION:19 Februari 08.15–09.15 at Översten (Umeå city hall) There is a growing interest in how cities can be reshaped through care-focused policies and practices and how urban success might be redefined by how well we care for people\, places\, and the planet. Welcome to a seminar about how to plan for creating care-full urban spaces. [&hellip\;]\n\nhttps://icld.se/sv/kalendarium/creating-care-full-urban-spaces-two-perspectives-of-planning-for-caring-cities/
URL:https://icld.se/sv/kalendarium/creating-care-full-urban-spaces-two-perspectives-of-planning-for-caring-cities/
END:VEVENT
END:VCALENDAR
