BEGIN:VCALENDAR
VERSION:2.0
PRODID:-//ICLD//EN
CALSCALE:GREGORIAN
METHOD:PUBLISH
BEGIN:VEVENT
UID:38457@icld.se
DTSTAMP:20260420T110230Z
DTSTART:20240520T060000Z
DTEND:20240520T150000Z
SUMMARY:Alumni Training of Trainers: Stakeholder Engagement
DESCRIPTION:A group of ICLD Alumni from Kenya deep-dive into our Toolbox for Stakeholder Engagement\, and how to pass on the methods and inspire colleagues in their own and other municipalities.\n\nhttps://icld.se/sv/kalendarium/alumni-training-of-trainers-stakeholder-engagement/
URL:https://icld.se/sv/kalendarium/alumni-training-of-trainers-stakeholder-engagement/
END:VEVENT
END:VCALENDAR
