BEGIN:VCALENDAR
VERSION:2.0
PRODID:-//ICLD//EN
CALSCALE:GREGORIAN
METHOD:PUBLISH
BEGIN:VEVENT
UID:39793@icld.se
DTSTAMP:20260420T105831Z
DTSTART:20260320T130000Z
DTEND:20260320T143000Z
SUMMARY:Alumni Talk: Sustaining reforms beyond project support
DESCRIPTION:Welcome to a webinar on the long-term impact of projects. The session equippes participants with knowledge on pathways to institutionalise and sustain the tools/systems and reforms in governance and service delivery\, that ICLD has supported them to develop over years. Date: 20 March 2026 on Zoom. Please note your time zone: Target Audience: Members of [&hellip\;]\n\nhttps://icld.se/sv/kalendarium/alumni-talk-sustaining-reforms-beyond-project-and-support/
URL:https://icld.se/sv/kalendarium/alumni-talk-sustaining-reforms-beyond-project-and-support/
END:VEVENT
END:VCALENDAR
