BEGIN:VCALENDAR
VERSION:2.0
PRODID:-//ICLD//EN
CALSCALE:GREGORIAN
METHOD:PUBLISH
BEGIN:VEVENT
UID:38463@icld.se
DTSTAMP:20260420T110218Z
DTSTART:20240620T130000Z
DTEND:20240620T140000Z
SUMMARY:Alumni Talk &#8211\; Climate adaption at the local level in the wake of recent floods in East Africa 
DESCRIPTION:Welcome to the next Alumni Talk on climate adaptation at the local level in the wake of the recent floods in Eastern Africa. 14.45 EAT / 13.45 CEST Read more\n\nhttps://icld.se/sv/kalendarium/alumni-talk-floods-and-climate-adaptation-in-eastern-africa/
URL:https://icld.se/sv/kalendarium/alumni-talk-floods-and-climate-adaptation-in-eastern-africa/
END:VEVENT
END:VCALENDAR
