BEGIN:VCALENDAR
VERSION:2.0
PRODID:-//ICLD//EN
CALSCALE:GREGORIAN
METHOD:PUBLISH
BEGIN:VEVENT
UID:39152@icld.se
DTSTAMP:20260422T095815Z
DTSTART:20251204T120000Z
DTEND:20251204T133000Z
SUMMARY:Alumni Talk: Democratizing Waste Governance &amp\; the Just Transition
DESCRIPTION:Watch an engaging session on how communities and institutions can confront the plastic pollution crisis in a just\, inclusive\, and democratic way. Dr. Richard Kiaka\, Researcher at the Centre for Environment Justice and Development\, will share insights from a recent ICLD project on environmental democracy\, grassroots innovation\, and participatory approaches in plastic governance. Mrs. Charity [&hellip\;]\n\nhttps://icld.se/sv/kalendarium/alumni-talk-democratizing-waste-governance-the-just-transition/
URL:https://icld.se/sv/kalendarium/alumni-talk-democratizing-waste-governance-the-just-transition/
END:VEVENT
END:VCALENDAR
