BEGIN:VCALENDAR
VERSION:2.0
PRODID:-//ICLD//EN
CALSCALE:GREGORIAN
METHOD:PUBLISH
BEGIN:VEVENT
UID:38342@icld.se
DTSTAMP:20260420T110010Z
DTSTART:20220703T090000Z
DTEND:20220703T094500Z
SUMMARY:Almedalsveckan invigs
DESCRIPTION:Johan Lilja invigningstalar på Almedalsveckans första dag.\n\nhttps://icld.se/sv/kalendarium/almedalsveckan-invigs/
URL:https://icld.se/sv/kalendarium/almedalsveckan-invigs/
END:VEVENT
END:VCALENDAR
