BEGIN:VCALENDAR
VERSION:2.0
PRODID:-//ICLD//EN
CALSCALE:GREGORIAN
METHOD:PUBLISH
BEGIN:VEVENT
UID:38500@icld.se
DTSTAMP:20260420T105410Z
DTSTART;VALUE=DATE:20250322
DTEND;VALUE=DATE:20250323
SUMMARY:World Water Day
DESCRIPTION:https://icld.se/en/calendar/world-water-day-2/
URL:https://icld.se/en/calendar/world-water-day-2/
END:VEVENT
END:VCALENDAR
