BEGIN:VCALENDAR
VERSION:2.0
PRODID:-//ICLD//EN
CALSCALE:GREGORIAN
METHOD:PUBLISH
BEGIN:VEVENT
UID:38436@icld.se
DTSTAMP:20260420T105456Z
DTSTART:20240207T070000Z
DTEND:20240210T160000Z
SUMMARY:Women Political Leadership cohort 10 Inception
DESCRIPTION:https://icld.se/en/calendar/wopen-political-leadership-cohort-10-inception/
URL:https://icld.se/en/calendar/wopen-political-leadership-cohort-10-inception/
END:VEVENT
END:VCALENDAR
