BEGIN:VCALENDAR
VERSION:2.0
PRODID:-//ICLD//EN
CALSCALE:GREGORIAN
METHOD:PUBLISH
BEGIN:VEVENT
UID:38434@icld.se
DTSTAMP:20260420T105458Z
DTSTART:20240205T070000Z
DTEND:20240207T160000Z
SUMMARY:Women Polititical Leadership cohort 9 &#8211\; final workshop
DESCRIPTION:https://icld.se/en/calendar/women-polititical-leadership-cohort-9-final-workshop/
URL:https://icld.se/en/calendar/women-polititical-leadership-cohort-9-final-workshop/
END:VEVENT
END:VCALENDAR
