BEGIN:VCALENDAR
VERSION:2.0
PRODID:-//ICLD//EN
CALSCALE:GREGORIAN
METHOD:PUBLISH
BEGIN:VEVENT
UID:38379@icld.se
DTSTAMP:20260420T105542Z
DTSTART:20230215T070000Z
DTEND:20230217T160000Z
SUMMARY:Women Political Leadership programme
DESCRIPTION:Inception workshop\n\nhttps://icld.se/en/calendar/women-political-leadership-programme-2/
URL:https://icld.se/en/calendar/women-political-leadership-programme-2/
END:VEVENT
END:VCALENDAR
