BEGIN:VCALENDAR
VERSION:2.0
PRODID:-//ICLD//EN
CALSCALE:GREGORIAN
METHOD:PUBLISH
BEGIN:VEVENT
UID:38395@icld.se
DTSTAMP:20260420T105124Z
DTSTART:20230306T130000Z
DTEND:20230306T160000Z
SUMMARY:Who&#8217\;s in Charge? Local Democracy Talks in Gaborone
DESCRIPTION:This talk is not livestreamed\n\nhttps://icld.se/en/calendar/whos-in-charge-local-democracy-talks-in-gabarone-2/
URL:https://icld.se/en/calendar/whos-in-charge-local-democracy-talks-in-gabarone-2/
END:VEVENT
END:VCALENDAR
