BEGIN:VCALENDAR
VERSION:2.0
PRODID:-//ICLD//EN
CALSCALE:GREGORIAN
METHOD:PUBLISH
BEGIN:VEVENT
UID:39471@icld.se
DTSTAMP:20260420T104950Z
DTSTART;VALUE=DATE:20260504
DTEND;VALUE=DATE:20260509
SUMMARY:TRANS-lighthouses Consortium Meeting
DESCRIPTION:https://icld.se/en/calendar/trans-lighthouses-meeting/
URL:https://icld.se/en/calendar/trans-lighthouses-meeting/
END:VEVENT
END:VCALENDAR
