BEGIN:VCALENDAR
VERSION:2.0
PRODID:-//ICLD//EN
CALSCALE:GREGORIAN
METHOD:PUBLISH
BEGIN:VEVENT
UID:38345@icld.se
DTSTAMP:20260420T105612Z
DTSTART:20220526T060000Z
DTEND:20220527T150000Z
SUMMARY:Team visit to Stellenbosch
DESCRIPTION:Team visit tol Stellenbosch\, South Africa\, for the ITP &#8220\;Inclusive Local Governance&#8221\; (LLG) and the Human Rights Network.\n\nhttps://icld.se/en/calendar/team-visit-llg-mr1/
URL:https://icld.se/en/calendar/team-visit-llg-mr1/
END:VEVENT
END:VCALENDAR
