BEGIN:VCALENDAR
VERSION:2.0
PRODID:-//ICLD//EN
CALSCALE:GREGORIAN
METHOD:PUBLISH
BEGIN:VEVENT
UID:38366@icld.se
DTSTAMP:20260420T105554Z
DTSTART:20221205T070000Z
DTEND:20221207T160000Z
SUMMARY:Team visit Finance
DESCRIPTION:https://icld.se/en/calendar/team-visit-finance/
URL:https://icld.se/en/calendar/team-visit-finance/
END:VEVENT
END:VCALENDAR
