BEGIN:VCALENDAR
VERSION:2.0
PRODID:-//ICLD//EN
CALSCALE:GREGORIAN
METHOD:PUBLISH
BEGIN:VEVENT
UID:38364@icld.se
DTSTAMP:20260420T105602Z
DTSTART:20221206T070000Z
DTEND:20221207T160000Z
SUMMARY:Steering group Human Rights Network
DESCRIPTION:https://icld.se/en/calendar/steering-group-human-rights-network/
URL:https://icld.se/en/calendar/steering-group-human-rights-network/
END:VEVENT
END:VCALENDAR
