BEGIN:VCALENDAR
VERSION:2.0
PRODID:-//ICLD//EN
CALSCALE:GREGORIAN
METHOD:PUBLISH
BEGIN:VEVENT
UID:38585@icld.se
DTSTAMP:20260420T105258Z
DTSTART:20250923T120000Z
DTEND:20250923T133000Z
SUMMARY:Reshaping Power for Equality: Women’s Political Participation and the Future of Democracy
DESCRIPTION:International Conference organised by UCLG\, UCLG Women and SALAR ICLD is participating in a Panel on institutional change\, representation and intersectionality Women’s Political Participation in Action Panel on institutional change\, representation and intersectionality Moderator: Lucy Slack\, Secretary General of CLGF (TBC) Speakers ● Hélène Bidard\, Deputy Mayor of Paris ● Johan Lilja\, Secretary General\, ICLD [&hellip\;]\n\nhttps://icld.se/en/calendar/reshaping-power-for-equality-womens-political-participation-and-the-future-of-democracy/
URL:https://icld.se/en/calendar/reshaping-power-for-equality-womens-political-participation-and-the-future-of-democracy/
END:VEVENT
END:VCALENDAR
