BEGIN:VCALENDAR
VERSION:2.0
PRODID:-//ICLD//EN
CALSCALE:GREGORIAN
METHOD:PUBLISH
BEGIN:VEVENT
UID:38265@icld.se
DTSTAMP:20260420T105730Z
DTSTART:20210630T110000Z
DTEND:20210630T140000Z
SUMMARY:Partnerships for Human Rights &#8211\; Open Space Online
DESCRIPTION:Partnerships for Human Rights\, the network of municipal partnerships focusing on Human Rights and rights-based approach to democracy development\, will engage in an online version of the Open Space meeting format. This will serve as a chance to test the Open Space format digitally while at the same time having an opportunity to benefit from [&hellip\;]\n\nhttps://icld.se/en/calendar/open-space-online-2/
URL:https://icld.se/en/calendar/open-space-online-2/
END:VEVENT
END:VCALENDAR
