BEGIN:VCALENDAR
VERSION:2.0
PRODID:-//ICLD//EN
CALSCALE:GREGORIAN
METHOD:PUBLISH
BEGIN:VEVENT
UID:38455@icld.se
DTSTAMP:20260420T105442Z
DTSTART:20240603T060000Z
DTEND:20240607T150000Z
SUMMARY:Network meeting Gender Equality
DESCRIPTION:https://icld.se/en/calendar/network-meeting-gender-equality-2/
URL:https://icld.se/en/calendar/network-meeting-gender-equality-2/
END:VEVENT
END:VCALENDAR
