BEGIN:VCALENDAR
VERSION:2.0
PRODID:-//ICLD//EN
CALSCALE:GREGORIAN
METHOD:PUBLISH
BEGIN:VEVENT
UID:38470@icld.se
DTSTAMP:20260420T105430Z
DTSTART:20240916T060000Z
DTEND:20240920T150000Z
SUMMARY:Network meeting Gender Equality
DESCRIPTION:https://icld.se/en/calendar/network-meeting-gender-equality-2-3/
URL:https://icld.se/en/calendar/network-meeting-gender-equality-2-3/
END:VEVENT
END:VCALENDAR
