BEGIN:VCALENDAR
VERSION:2.0
PRODID:-//ICLD//EN
CALSCALE:GREGORIAN
METHOD:PUBLISH
BEGIN:VEVENT
UID:38414@icld.se
DTSTAMP:20260420T105515Z
DTSTART:20231127T070000Z
DTEND:20231201T160000Z
SUMMARY:Network meeting Equitable Health
DESCRIPTION:https://icld.se/en/calendar/network-meeting-equitable-health/
URL:https://icld.se/en/calendar/network-meeting-equitable-health/
END:VEVENT
END:VCALENDAR
