BEGIN:VCALENDAR
VERSION:2.0
PRODID:-//ICLD//EN
CALSCALE:GREGORIAN
METHOD:PUBLISH
BEGIN:VEVENT
UID:38441@icld.se
DTSTAMP:20260420T105452Z
DTSTART:20240408T060000Z
DTEND:20240411T150000Z
SUMMARY:Network meeting Democratic resilience
DESCRIPTION:https://icld.se/en/calendar/network-meeting-democratic-resilience-2/
URL:https://icld.se/en/calendar/network-meeting-democratic-resilience-2/
END:VEVENT
END:VCALENDAR
