BEGIN:VCALENDAR
VERSION:2.0
PRODID:-//ICLD//EN
CALSCALE:GREGORIAN
METHOD:PUBLISH
BEGIN:VEVENT
UID:38487@icld.se
DTSTAMP:20260420T105421Z
DTSTART:20241027T070000Z
DTEND:20241029T160000Z
SUMMARY:Network meeting Climate Action
DESCRIPTION:https://icld.se/en/calendar/network-meeting-climate-action-2-3/
URL:https://icld.se/en/calendar/network-meeting-climate-action-2-3/
END:VEVENT
END:VCALENDAR
