BEGIN:VCALENDAR
VERSION:2.0
PRODID:-//ICLD//EN
CALSCALE:GREGORIAN
METHOD:PUBLISH
BEGIN:VEVENT
UID:38558@icld.se
DTSTAMP:20260420T105316Z
DTSTART:20251117T070000Z
DTEND:20251121T160000Z
SUMMARY:Network for Gender Equality Conference
DESCRIPTION:Colombia\n\nhttps://icld.se/en/calendar/network-for-gender-equality-conference-2-2/
URL:https://icld.se/en/calendar/network-for-gender-equality-conference-2-2/
END:VEVENT
END:VCALENDAR
