BEGIN:VCALENDAR
VERSION:2.0
PRODID:-//ICLD//EN
CALSCALE:GREGORIAN
METHOD:PUBLISH
BEGIN:VEVENT
UID:38556@icld.se
DTSTAMP:20260420T105318Z
DTSTART:20251103T070000Z
DTEND:20251106T160000Z
SUMMARY:Network for Democratic Resilience Conference
DESCRIPTION:Polen\n\nhttps://icld.se/en/calendar/network-for-democratic-resilience-conference-2-2/
URL:https://icld.se/en/calendar/network-for-democratic-resilience-conference-2-2/
END:VEVENT
END:VCALENDAR
