BEGIN:VCALENDAR
VERSION:2.0
PRODID:-//ICLD//EN
CALSCALE:GREGORIAN
METHOD:PUBLISH
BEGIN:VEVENT
UID:38237@icld.se
DTSTAMP:20260420T105818Z
DTSTART:20211210T110000Z
DTEND:20211210T120000Z
SUMMARY:Human Rights Day
DESCRIPTION:More info at icld.se/localdemocracytalks\n\nhttps://icld.se/en/calendar/local-democracy-talks-human-rights-day-2/
URL:https://icld.se/en/calendar/local-democracy-talks-human-rights-day-2/
END:VEVENT
END:VCALENDAR
