BEGIN:VCALENDAR
VERSION:2.0
PRODID:-//ICLD//EN
CALSCALE:GREGORIAN
METHOD:PUBLISH
BEGIN:VEVENT
UID:38389@icld.se
DTSTAMP:20260420T105140Z
DTSTART:20230308T130000Z
DTEND:20230308T150000Z
SUMMARY:Local Democracy Talks: Feminist Mayors = Cities for all
DESCRIPTION:This panel brings together world-known mayors that have used a feminist lens to address complex problems their cities faced: climate change\, health inequity\, poverty\, increasing violence\, unequal access to care\, among others. These mayors have transformed their cities and challenged the status quo using a feminist approach. So\, what is a feminist city? What impact [&hellip\;]\n\nhttps://icld.se/en/calendar/local-democracy-talks-feminist-mayors-cities-for-all-2/
URL:https://icld.se/en/calendar/local-democracy-talks-feminist-mayors-cities-for-all-2/
END:VEVENT
END:VCALENDAR
