BEGIN:VCALENDAR
VERSION:2.0
PRODID:-//ICLD//EN
CALSCALE:GREGORIAN
METHOD:PUBLISH
BEGIN:VEVENT
UID:38443@icld.se
DTSTAMP:20260420T105100Z
DTSTART:20240319T210000Z
DTEND:20240319T225500Z
SUMMARY:Local Democracy Talks If Gender Champions Rule Our Cities?
DESCRIPTION:Welcome to a paneldiscussion live streamed from Bogotá! Local time (COT): 16-18.00 The discussion will adress how local governments in Colombia\, Guatemala as well as Sweden can institutionalize efforts to promote gender equality\, increase the participation of marginalized gender groups. We will also dive into the possibilities in how to improve the outcomes of the [&hellip\;]\n\nhttps://icld.se/en/calendar/local-democracy-talks-2-3/
URL:https://icld.se/en/calendar/local-democracy-talks-2-3/
END:VEVENT
END:VCALENDAR
