BEGIN:VCALENDAR
VERSION:2.0
PRODID:-//ICLD//EN
CALSCALE:GREGORIAN
METHOD:PUBLISH
BEGIN:VEVENT
UID:38374@icld.se
DTSTAMP:20260420T105546Z
DTSTART:20221117T160000Z
DTEND:20221117T180000Z
SUMMARY:Local Democracy Talk: The Future We Imagine
DESCRIPTION:This Local Democracy Talk aimed to create a constructive dialogue and exchange experiences among policymakers\, researchers and civil society to strengthen community engagement &#8211\; the foundation of participatory democracy. The topic was community-based research for democratic policy transformation: what are communities’ vision of the future they want and how can researchers and local governments work [&hellip\;]\n\nhttps://icld.se/en/calendar/local-democracy-talk-the-future-we-imagine/
URL:https://icld.se/en/calendar/local-democracy-talk-the-future-we-imagine/
END:VEVENT
END:VCALENDAR
