BEGIN:VCALENDAR
VERSION:2.0
PRODID:-//ICLD//EN
CALSCALE:GREGORIAN
METHOD:PUBLISH
BEGIN:VEVENT
UID:38391@icld.se
DTSTAMP:20260420T105130Z
DTSTART:20230405T120000Z
DTEND:20230405T130000Z
SUMMARY:Local Democracy Talk: The double-edged sword of participation in post-conflict contexts
DESCRIPTION:This webinar explores new research on how participation and inclusion relate to influence in local decision-making in post-conflict contexts. Peacebuilding and current international development align in the local turn: the belief that change happens at the local level. Kenya and Lebanon\, places divided along ethnic or sectarian lines\, showcase how participation might both strengthen local [&hellip\;]\n\nhttps://icld.se/en/calendar/local-democracy-talk-the-double-edged-sword-of-participation-in-post-conflict-contexts-2/
URL:https://icld.se/en/calendar/local-democracy-talk-the-double-edged-sword-of-participation-in-post-conflict-contexts-2/
END:VEVENT
END:VCALENDAR
