BEGIN:VCALENDAR
VERSION:2.0
PRODID:-//ICLD//EN
CALSCALE:GREGORIAN
METHOD:PUBLISH
BEGIN:VEVENT
UID:38538@icld.se
DTSTAMP:20260420T105334Z
DTSTART:20250121T120000Z
DTEND:20250121T133000Z
SUMMARY:Local Democracy Talk: Decentralization and Resilience in Ukraine
DESCRIPTION:Time and date are preliminary. More info and registration to come!\n\nhttps://icld.se/en/calendar/local-democracy-talk-decentralization-and-resilience-in-ukraine-2/
URL:https://icld.se/en/calendar/local-democracy-talk-decentralization-and-resilience-in-ukraine-2/
END:VEVENT
END:VCALENDAR
