BEGIN:VCALENDAR
VERSION:2.0
PRODID:-//ICLD//EN
CALSCALE:GREGORIAN
METHOD:PUBLISH
BEGIN:VEVENT
UID:38446@icld.se
DTSTAMP:20260420T105450Z
DTSTART:20240826T060000Z
DTEND:20240829T150000Z
SUMMARY:Local Democracy Academy
DESCRIPTION:Research and Practice for Empowering Local Democracy: From Local Initiatives to Global Transformation   Lund\, Sweden 26-29 of August 2024 \n\nhttps://icld.se/en/calendar/local-democracy-academy-2-3/
URL:https://icld.se/en/calendar/local-democracy-academy-2-3/
END:VEVENT
END:VCALENDAR
