BEGIN:VCALENDAR
VERSION:2.0
PRODID:-//ICLD//EN
CALSCALE:GREGORIAN
METHOD:PUBLISH
BEGIN:VEVENT
UID:38287@icld.se
DTSTAMP:20260420T105714Z
DTSTART:20211202T120000Z
DTEND:20211202T143000Z
SUMMARY:Kick off Partnerships for human rights network &#8211\; round 2
DESCRIPTION:The kick off takes place in Zoom. For more information contact josefin.daleskog@icld.se\n\nhttps://icld.se/en/calendar/kick-off-partnerships-for-human-rights-network-round-2/
URL:https://icld.se/en/calendar/kick-off-partnerships-for-human-rights-network-round-2/
END:VEVENT
END:VCALENDAR
