BEGIN:VCALENDAR
VERSION:2.0
PRODID:-//ICLD//EN
CALSCALE:GREGORIAN
METHOD:PUBLISH
BEGIN:VEVENT
UID:38271@icld.se
DTSTAMP:20260420T105728Z
DTSTART:20210920T060000Z
DTEND:20210924T124500Z
SUMMARY:Joint ITP Workshop Finance &#038\; Leadership in Local Governance
DESCRIPTION:https://icld.se/en/calendar/joint-itp-workshop-finance-leadership-in-local-governance/
URL:https://icld.se/en/calendar/joint-itp-workshop-finance-leadership-in-local-governance/
END:VEVENT
END:VCALENDAR
