BEGIN:VCALENDAR
VERSION:2.0
PRODID:-//ICLD//EN
CALSCALE:GREGORIAN
METHOD:PUBLISH
BEGIN:VEVENT
UID:38255@icld.se
DTSTAMP:20260420T105752Z
DTSTART;VALUE=DATE:20210621
DTEND;VALUE=DATE:20210624
SUMMARY:ITP SymbioCity Program &#8211\; Follow-up Workshop 2
DESCRIPTION:https://icld.se/en/calendar/itp-symbiocity-program-follow-up-workshop-2-2/
URL:https://icld.se/en/calendar/itp-symbiocity-program-follow-up-workshop-2-2/
END:VEVENT
END:VCALENDAR
