BEGIN:VCALENDAR
VERSION:2.0
PRODID:-//ICLD//EN
CALSCALE:GREGORIAN
METHOD:PUBLISH
BEGIN:VEVENT
UID:38319@icld.se
DTSTAMP:20260420T105636Z
DTSTART:20220919T070000Z
DTEND:20220927T150000Z
SUMMARY:ITP Swedish Phase of the Zimbabwe Leadership Programme
DESCRIPTION:https://icld.se/en/calendar/itp-swedish-phase-of-the-zimbabwe-leadership-programme-2/
URL:https://icld.se/en/calendar/itp-swedish-phase-of-the-zimbabwe-leadership-programme-2/
END:VEVENT
END:VCALENDAR
