BEGIN:VCALENDAR
VERSION:2.0
PRODID:-//ICLD//EN
CALSCALE:GREGORIAN
METHOD:PUBLISH
BEGIN:VEVENT
UID:38320@icld.se
DTSTAMP:20260420T105630Z
DTSTART:20220919T070000Z
DTEND:20220930T150000Z
SUMMARY:ITP Swedish Phase of the Public Financial Management and Local Economic Development Programme\, cohort 8
DESCRIPTION:https://icld.se/en/calendar/itp-swedish-phase-of-the-public-financial-management-and-local-economic-development-programme-cohort-8/
URL:https://icld.se/en/calendar/itp-swedish-phase-of-the-public-financial-management-and-local-economic-development-programme-cohort-8/
END:VEVENT
END:VCALENDAR
